Workbook
Name Concursos_consecutivos_declarados_por_prov: [1]Introducción!#REF!
Name Concursos_consecutivos_declarados_por_prov: [2]Introducción!#REF!
Name Concursos_consecutivos_declarados_por_provincia: [1]Introducción!#REF!
Name Concursos_consecutivos_declarados_por_provincia: [2]Introducción!#REF!

Sheet Introducción
B14: Resumen
B15: Definiciones y conceptos | D15: MATERIA LABORAL
B16: MATERIA CONCURSAL | D16: Despidos presentados por TSJ
B17: Concursos de personas jurídicas por TSJ | D17: Reclamaciones de cantidad presentadas por TSJ
B18: Concursos de personas naturales empresarios por TSJ | D18: MATERIA CIVIL
B19: Concursos de personas naturales NO empresarios por TSJ | D19: Ejecuciones hipotecarias presentadas por TSJ
B20: Total de concursos presentados por TSJ | D20: Procedimientos Monitorios presentados por TSJ
B21: Total de concursos declarados por TSJ | D21: Lanzamientos recibidos en los Servicios Comunes por TSJ
B22: Concursos aperturados en fase de convenio por TSJ | D22: Lanzamientos con cumplimiento positivo en los Servicios Comunes por TSJ
B23: Concursos que han iniciado fase de liquidación por TSJ | D23: Total lanzamientos practicados por TSJ
B24: Concursos. Expedientes del art. 169 TRLC (E.R.E.) por TSJ | D24: Lanzamientos practicados como consecuencia de procedimientos de ejecución hipotecaria
B25: Concursos sin masa declarados por TSJ | D25: Lanzamientos practicados como consecuencia de procedimientos derivados de la Ley de Arrendamientos Urbanos
B26: Procedimientos Especiales de Microempresas presentados por TSJ. Persona jurídica | D26: Otros lanzamientos practicados
... B28: Total de Procedimientos Especiales de Microempresas presentados por TSJ | D28: Anexo suspensión de lanzamientos.
B29: Procedimientos Especiales de Microempresas aperturados por TSJ
B30: Procedimientos Especiales de Microempresas de continuación aperturados por TSJ
B31: Procedimientos Especiales de Microempresas de liquidación aperturados por TSJ | D31: DATOS PROVINCIALES SEGUNDO TRIMESTRE 2026
B34: Nota:
B35: Se acompaña la nota del partido judicial para el que no ha sido posible disponer de la información en la fecha de cierre de este informe.

Sheet Resumen
C4: Despidos | D4: Reclamaciones de cantidad | E4: Evolución despidos | F4: Evolución reclamaciones de cantidad
B5: 07-T1 | C5: 17449 | D5: 28005 | E5: -0.035913586 | F5: -0.10501422
B6: 07-T2 | C6: 15620 | D6: 27250 | E6: 0.0045016077 | F6: -0.093720899
B7: 07-T3 | C7: 16076 | D7: 22440 | E7: 0.02571301 | F7: 0.0038471862
B8: 07-T4 | C8: 17104 | D8: 29047 | E8: 0.07979798 | F8: 0.10786071
B9: 08-T1 | C9: 19655 | D9: 35753 | E9: =+(C9-C5)/C5 -> 0.12642558 | F9: =+(D9-D5)/D5 -> 0.27666488
B10: 08-T2 | C10: 24004 | D10: 43353 | E10: =+(C10-C6)/C6 -> 0.53674776 | F10: =+(D10-D6)/D6 -> 0.59093578
B11: 08-T3 | C11: 26057 | D11: 33370 | E11: =+(C11-C7)/C7 -> 0.6208634 | F11: =+(D11-D7)/D7 -> 0.48707665
B12: 08-T4 | C12: 33209 | D12: 45448 | E12: =+(C12-C8)/C8 -> 0.94159261 | F12: =+(D12-D8)/D8 -> 0.56463662
B13: 09-T1 | C13: 38510 | D13: 51771 | E13: =+(C13-C9)/C9 -> 0.95929789 | F13: =+(D13-D9)/D9 -> 0.44801835
B14: 09-T2 | C14: 35615 | D14: 47207 | E14: =+(C14-C10)/C10 -> 0.48371105 | F14: =+(D14-D10)/D10 -> 0.088898115
B15: 09-T3 | C15: 31576 | D15: 39978 | E15: =+(C15-C11)/C11 -> 0.21180489 | F15: =+(D15-D11)/D11 -> 0.19802218
B16: 09-T4 | C16: 29678 | D16: 44720 | E16: =+(C16-C12)/C12 -> -0.1063266 | F16: =+(D16-D12)/D12 -> -0.016018307
B17: 10-T1 | C17: 31192 | D17: 49437 | E17: =+(C17-C13)/C13 -> -0.19002856 | F17: =+(D17-D13)/D13 -> -0.045083155
B18: 10-T2 | C18: 28131 | D18: 45558 | E18: =+(C18-C14)/C14 -> -0.21013618 | F18: =+(D18-D14)/D14 -> -0.03493126
B19: 10-T3 | C19: 26080 | D19: 34229 | E19: =+(C19-C15)/C15 -> -0.17405625 | F19: =+(D19-D15)/D15 -> -0.14380409
B20: 10-T4 | C20: 26539 | D20: 39680 | E20: =+(C20-C16)/C16 -> -0.10576858 | F20: =+(D20-D16)/D16 -> -0.11270125
... B44: 16-T4 | C44: 24509 | D44: 29081 | E44: =+(C44-C40)/C40 -> 0.0074399868 | F44: =+(D44-D40)/D40 -> -0.001064853
B45: 17-T1 | C45: 27166 | D45: 34041 | E45: 0.078786435 | F45: 0.21814278
B46: 17-T2 | C46: 25869 | D46: 32047 | E46: 0.00011598237 | F46: 0.044488625
B47: 17-T3 | C47: 26101 | D47: 26854 | E47: 0.11714604 | F47: 0.1087531
B48: 17-T4 | C48: 25688 | D48: 29408 | E48: 0.048104778 | F48: 0.011244455
B49: 18-T1 | C49: 27589 | D49: 31392 | E49: 0.015570934 | F49: -0.077817925
B50: 18-T2 | C50: 25785 | D50: 33573 | E50: -0.0032471298 | F50: 0.047617562
B51: 18-T3 | C51: 26669 | D51: 27761 | E51: 0.021761618 | F51: 0.033775229
B52: 18-T4 | C52: 27251 | D52: 31480 | E52: 0.060845531 | F52: 0.070457018
B53: 19-T1 | C53: 29386 | D53: 34020 | E53: 0.065134655 | F53: 0.083715596
B54: 19-T2 | C54: 28121 | D54: 33623 | E54: 0.090595307 | F54: 0.001489292
B55: 19-T3 | C55: 30981 | D55: 28752 | E55: 0.16168585 | F55: 0.035697561
B56: 19-T4 | C56: 31561 | D56: 34857 | E56: 0.15815933 | F56: 0.10727446
... B64: 21-T4 | C64: 28219 | D64: 30377 | E64: -0.051 | F64: -0.049
B65: 22-T1 | C65: 30126 | D65: 31990 | E65: =+(C65-C61)/C61 -> -0.12579438 | F65: =+(D65-D61)/D61 -> -0.068867156
B66: 22-T2 | C66: 28753 | D66: 30414 | E66: =+(C66-C62)/C62 -> 0.020369779 | F66: =+(D66-D62)/D62 -> -0.054026313
B67: 22-T3 | C67: 30167 | D67: 26050 | E67: =+(C67-C63)/C63 -> 0.14121964 | F67: =+(D67-D63)/D63 -> 0.02369631
B68: 22-T4 | C68: 31889 | D68: 32084 | E68: =+(C68-C64)/C64 -> 0.13005422 | F68: =+(D68-D64)/D64 -> 0.056193831
B69: 23-T1 | C69: =+'Despidos presentados TSJ'!C23 -> 41116 | D69: =+'Recl. cantidad TSJ'!C23 -> 36146 | E69: =+(C69-C65)/C65 -> 0.36480117 | F69: =+(D69-D65)/D65 -> 0.1299156
B70: 23-T2 | C70: 34014 | D70: 35469 | E70: 0.18297221 | F70: 0.16620635
B71: 23-T3 | C71: 35413 | D71: 29621 | E71: 0.17389863 | F71: 0.13708253
B72: 23-T4 | C72: 37878 | D72: 32742 | E72: 0.18780771 | F72: 0.020508665
B73: 24-T1 | C73: 39883 | D73: 35673 | E73: 0.20568941 | F73: 0.13887559
...

Sheet Definiciones y conceptos
B4: Concursos | C4: Comprende aquellos procedimientos que, declarados y tramitados en los Juzgados de lo Mercantil, procede su apertura para cualquier deudor, sea persona natural o jurídica, que no pueda cumplir regularmente sus obligaciones exigibles. Se incluyen tanto los concursos ordinarios, como los abreviados, así como los voluntarios y necesarios. Las entidades que integran la organización territorial del Estado, los organismos públicos y demás entes de derecho público no pueden ser declaradas en concurso
B5: Concursos Presentados | C5: Número total de solicitudes de concurso presentadas ante los Juzgados de lo Mercantil por el deudor, sea persona natural o jurídica, y por cualquiera de sus acreedores.
B6: Concursos Declarados | C6: Se recogen todos los autos judiciales dictados por los Juzgados de lo Mercantil dentro de un procedimiento concursal, que abren la fase común de tramitación del concurso y determinan, entre otras situaciones jurídicas, el carácter necesario o voluntario del concurso y los efectos sobre las facultades de administración y disposición del deudor respecto de su patrimonio.
B7: Concursos declarados concluidos art. 176 bis 4 LC | C7: El artículo 176 bis 4 de la Ley Concursal posibilita la conclusión del concurso en el mismo auto de su declaración, cuando el juez aprecia de manera evidente que el patrimonio del concursado no puede satisfacer los créditos contra la masa del procedimiento, ni se preveen acciones de reintegración, impugnación o de responsabilidad de terceros.
B8: Fase de Convenio | C8: El convenio es un acuerdo único entre el concursado y los acreedores para una redución o aplazamiento de los créditos. La fase de convenio se apertura por el Juez de lo Mercantil mediante auto, cuando el concursado no hubiera solicitado la liquidación y no hubiera sido aprobada ni mantenida una propuesta anticipada de convenio.
B9: Fase de Liquidación | C9: La liquidación es una de las soluciones del concurso, junto al convenio, previstas por la ley. La liquidación puede pedirse por el deudor, el acreedor o bien aperturarse de oficio. El inicio de la fase de liquidación se acordará por el Juez de lo Mercantil mediante resolución judicial.
B10: Concursos sin masa | C10: Se reciogen todos los autos que declaran "concursos sin masa" del artículo 37 bisTRLC, que se dictan cuandoconcurra alguno de los siguientes supuestos: (a) el concursado carece de bienes y derechos que sean legalmente embargables; (b) el coste de realización de los bienes y derechos del concursado es manifiestamente desproporcionado respecto al previsible valor venal; (c) los bienes y derechos del concursado libres de cargas son de valor inferior al previsible coste del procedimiento; (d) los gravámenes y las cargas existentes sobre los bienes y derechos del concursado lo son por importe superior al valor de mercado de esos bienes y derechos.
B11: E.R.E. | C11: Acrónimo de Expediente de Regulación de Empleo. Es un procedimiento de modificación sustancial de las condiciones de trabajo de carácter colectivo, que una vez declarado el concurso, se tramita ante el juez del concurso por las reglas establecidas en el artículo 64 de la Ley Concursal.
B12: Procedimientos especiales de Mircroempresas (PEM) | C12: Es el procedimiento por el que se tramitan las situaciones de insolvencia probable, inminenete o actual de las empresas que tienen de 1 a 10 empleados y un volumen de negocio anual inferior a 700.000 euros o un pasivo inferior a 350.000 euros según las últimas cuentas cerradas en el ejercicio anterior a la presentación de la solicitud.
B13: Procedimientos especiales de Mircroempresas presentados | C13: Número total de solicitudes de apertura de procedimiento especial de microempresas ante los Juzgados de lo Mercantil por el deudor, los acreedores o los socios personalmente responsables.
B14: Procedimientos especiales de Mircroempresas declarados aperturados | C14: Se recogen todos los autos judiciales dictados por los Juzgados de lo Mercantil dentro de un procedimiento especial de microempresas, quedeterminan, entre otras situaciones jurídicas, los efectos sobre las facultades de administración y disposición del deudor respecto de su patrimonio, la paralización de algunas ejecuciones judiciales o extrajudiciales sobre bienes y derechos del deudor, y la tramitación del procedimiento en su modalidad de continuación o de liquidación
B15: Procedimientos especiales de Mircroempresas de continuación | C15: Culmina con la homologación judicial de un acuerdo alcanzado entre el deudor y los acreedores para una redución o aplazamiento de los créditos, que incluy e un plan de reestructuración y la explicación de los medios que propone para cumplir su propuesta
... B24: Verbales posesorios por ocupación ilegal de viviendas | C24: Son procedimientos tramitados por los Juzgados de Primera Instancia, que permiten, en los supuestos de ocupación ilegal de viviendas, a la persona física, que sea propietaria o poseedora legítima por otro título, a las entidades sin ánimo de lucro con derecho a poseerla y las entidades públicas propietarias o poseedoras legítimas de vivienda social, pedir la inmediata recuperación de la plena posesión de una vivienda o parte de ella, siempre que se hayan visto privados de ella sin su consentimiento.

Sheet Concursos TSJ pers. jurid. 
W2: c
C5: 25-T1 | D5: 25-T2 | E5: 25-T3 | F5: 25-T4 | G5: 26-T1 | H5: 26-T2
B6: ANDALUCÍA | C6: 201 | D6: 200 | E6: 183 | F6: 193 | G6: 184 | H6: 188
B7: ARAGÓN | C7: 23 | D7: 27 | E7: 16 | F7: 40 | G7: 24 | H7: 25
B8: ASTURIAS, PRINCIPADO | C8: 14 | D8: 14 | E8: 14 | F8: 23 | G8: 18 | H8: 17
B9: ILLES BALEARS | C9: 27 | D9: 36 | E9: 22 | F9: 31 | G9: 50 | H9: 44
B10: CANARIAS | C10: 32 | D10: 22 | E10: 16 | F10: 22 | G10: 17 | H10: 15
B11: CANTABRIA | C11: 10 | D11: 10 | E11: 3 | F11: 3 | G11: 2 | H11: 5
B12: CASTILLA Y LEÓN | C12: 28 | D12: 30 | E12: 33 | F12: 49 | G12: 30 | H12: 77
B13: CASTILLA - LA MANCHA | C13: 56 | D13: 46 | E13: 30 | F13: 40 | G13: 51 | H13: 42
B14: CATALUÑA | C14: 423 | D14: 390 | E14: 301 | F14: 441 | G14: 482 | H14: 406
B15: COMUNITAT VALENCIANA | C15: 199 | D15: 189 | E15: 137 | F15: 211 | G15: 157 | H15: 174
B16: EXTREMADURA | C16: 21 | D16: 29 | E16: 24 | F16: 16 | G16: 13 | H16: 17
B17: GALICIA | C17: 55 | D17: 102 | E17: 39 | F17: 57 | G17: 48 | H17: 71
... B23: TOTAL | C23: 1455 | D23: 1342 | E23: 1134 | F23: 1541 | G23: 1395 | H23: 1404
C27: Evolución 26-T1 | D27: Evolución 26-T2
B28: ANDALUCÍA | C28: =+(G6-C6)/C6 -> -0.084577114 | D28: =+(H6-D6)/D6 -> -0.06
B29: ARAGÓN | C29: =+(G7-C7)/C7 -> 0.043478261 | D29: =+(H7-D7)/D7 -> -0.074074074
B30: ASTURIAS, PRINCIPADO | C30: =+(G8-C8)/C8 -> 0.28571429 | D30: =+(H8-D8)/D8 -> 0.21428571
B31: ILLES BALEARS | C31: =+(G9-C9)/C9 -> 0.85185185 | D31: =+(H9-D9)/D9 -> 0.22222222
B32: CANARIAS | C32: =+(G10-C10)/C10 -> -0.46875 | D32: =+(H10-D10)/D10 -> -0.31818182
B33: CANTABRIA | C33: =+(G11-C11)/C11 -> -0.8 | D33: =+(H11-D11)/D11 -> -0.5
B34: CASTILLA Y LEÓN | C34: =+(G12-C12)/C12 -> 0.071428571 | D34: =+(H12-D12)/D12 -> 1.5666667
B35: CASTILLA - LA MANCHA | C35: =+(G13-C13)/C13 -> -0.089285714 | D35: =+(H13-D13)/D13 -> -0.086956522
B36: CATALUÑA | C36: =+(G14-C14)/C14 -> 0.13947991 | D36: =+(H14-D14)/D14 -> 0.041025641
B37: COMUNITAT VALENCIANA | C37: =+(G15-C15)/C15 -> -0.21105528 | D37: =+(H15-D15)/D15 -> -0.079365079
B38: EXTREMADURA | C38: =+(G16-C16)/C16 -> -0.38095238 | D38: =+(H16-D16)/D16 -> -0.4137931
B39: GALICIA | C39: =+(G17-C17)/C17 -> -0.12727273 | D39: =+(H17-D17)/D17 -> -0.30392157
... B45: TOTAL | C45: =+(G23-C23)/C23 -> -0.041237113 | D45: =+(H23-D23)/D23 -> 0.046199702
C51: 25-T1 | D51: 25-T2 | E51: 25-T3 | F51: 25-T4 | G51: 26-T1 | H51: 26-T2 | I51: 45658
B52: ANDALUCÍA | C52: =+C6/$I52*100000 -> 2.2718675 | D52: =+D6/$I52*100000 -> 2.2605647 | E52: =+E6/$I52*100000 -> 2.0684167 | F52: =+F6/$I52*100000 -> 2.1814449 | G52: =+G6/$I52*100000 -> 2.0797195 | H52: =+H6/$I52*100000 -> 2.1249308 | I52: 8847347
B53: ARAGÓN | C53: =+C7/$I53*100000 -> 1.6854497 | D53: =+D7/$I53*100000 -> 1.9785713 | E53: =+E7/$I53*100000 -> 1.1724867 | F53: =+F7/$I53*100000 -> 2.9312168 | G53: =+G7/$I53*100000 -> 1.7587301 | H53: =+H7/$I53*100000 -> 1.8320105 | I53: 1364621
B54: ASTURIAS, PRINCIPADO | C54: =+C8/$I54*100000 -> 1.3791364 | D54: =+D8/$I54*100000 -> 1.3791364 | E54: =+E8/$I54*100000 -> 1.3791364 | F54: =+F8/$I54*100000 -> 2.2657241 | G54: =+G8/$I54*100000 -> 1.7731754 | H54: =+H8/$I54*100000 -> 1.6746657 | I54: 1015128
B55: ILLES BALEARS | C55: =+C9/$I55*100000 -> 2.1602696 | D55: =+D9/$I55*100000 -> 2.8803595 | E55: =+E9/$I55*100000 -> 1.7602197 | F55: =+F9/$I55*100000 -> 2.4803095 | G55: =+G9/$I55*100000 -> 4.0004993 | H55: =+H9/$I55*100000 -> 3.5204394 | I55: 1249844
B56: CANARIAS | C56: =+C10/$I56*100000 -> 1.41664 | D56: =+D10/$I56*100000 -> 0.97394002 | E56: =+E10/$I56*100000 -> 0.70832002 | F56: =+F10/$I56*100000 -> 0.97394002 | G56: =+G10/$I56*100000 -> 0.75259002 | H56: =+H10/$I56*100000 -> 0.66405001 | I56: 2258866
B57: CANTABRIA | C57: =+C11/$I57*100000 -> 1.6845708 | D57: =+D11/$I57*100000 -> 1.6845708 | E57: =+E11/$I57*100000 -> 0.50537125 | F57: =+F11/$I57*100000 -> 0.50537125 | G57: =+G11/$I57*100000 -> 0.33691417 | H57: =+H11/$I57*100000 -> 0.84228542 | I57: 593623
B58: CASTILLA - LEÓN | C58: =+C12/$I58*100000 -> 1.1660734 | D58: =+D12/$I58*100000 -> 1.2493644 | E58: =+E12/$I58*100000 -> 1.3743008 | F58: =+F12/$I58*100000 -> 2.0406285 | G58: =+G12/$I58*100000 -> 1.2493644 | H58: =+H12/$I58*100000 -> 3.2067019 | I58: 2401221
B59: CASTILLA - LA MANCHA | C59: =+C13/$I59*100000 -> 2.6335863 | D59: =+D13/$I59*100000 -> 2.163303 | E59: =+E13/$I59*100000 -> 1.4108498 | F59: =+F13/$I59*100000 -> 1.8811331 | G59: =+G13/$I59*100000 -> 2.3984447 | H59: =+H13/$I59*100000 -> 1.9751897 | I59: 2126378
B60: CATALUÑA | C60: =+C14/$I60*100000 -> 5.2067139 | D60: =+D14/$I60*100000 -> 4.8005164 | E60: =+E14/$I60*100000 -> 3.7050139 | F60: =+F14/$I60*100000 -> 5.4282762 | G60: =+G14/$I60*100000 -> 5.9329459 | H60: =+H14/$I60*100000 -> 4.9974606 | I60: 8124126
B61: C. VALENCIANA | C61: =+C15/$I61*100000 -> 3.6680797 | D61: =+D15/$I61*100000 -> 3.4837541 | E61: =+E15/$I61*100000 -> 2.5252609 | F61: =+F15/$I61*100000 -> 3.8892704 | G61: =+G15/$I61*100000 -> 2.8939121 | H61: =+H15/$I61*100000 -> 3.2072657 | I61: 5425182
...

Sheet Concursos TSJ pers. nat.empres
C5: 25-T1 | D5: 25-T2 | E5: 25-T3 | F5: 25-T4 | G5: 26-T1 | H5: 26-T2
B6: ANDALUCÍA | C6: 10 | D6: 29 | E6: 17 | F6: 15 | G6: 23 | H6: 3
B7: ARAGÓN | C7: 4 | D7: 6 | E7: 0 | F7: 6 | G7: 8 | H7: 6
B8: ASTURIAS, PRINCIPADO | C8: 23 | D8: 3 | E8: 10 | F8: 2 | G8: 7 | H8: 7
B9: ILLES BALEARS | C9: 9 | D9: 8 | E9: 0 | F9: 5 | G9: 1 | H9: 0
B10: CANARIAS | C10: 15 | D10: 6 | E10: 0 | F10: 24 | G10: 14 | H10: 12
B11: CANTABRIA | C11: 12 | D11: 12 | E11: 5 | F11: 22 | G11: 7 | H11: 4
B12: CASTILLA Y LEÓN | C12: 16 | D12: 19 | E12: 13 | F12: 10 | G12: 17 | H12: 6
B13: CASTILLA - LA MANCHA | C13: 30 | D13: 22 | E13: 13 | F13: 19 | G13: 20 | H13: 14
B14: CATALUÑA | C14: 414 | D14: 384 | E14: 347 | F14: 299 | G14: 387 | H14: 423
B15: COMUNITAT VALENCIANA | C15: 64 | D15: 58 | E15: 44 | F15: 55 | G15: 109 | H15: 80
B16: EXTREMADURA | C16: 26 | D16: 47 | E16: 36 | F16: 44 | G16: 11 | H16: 18
B17: GALICIA | C17: 14 | D17: 31 | E17: 28 | F17: 29 | G17: 18 | H17: 20
... B23: TOTAL | C23: 729 | D23: 753 | E23: 601 | F23: 613 | G23: 706 | H23: 672
C27: 26-T1 | D27: 26-T2
B28: ANDALUCÍA | C28: =+IF(C6>0,(G6-C6)/C6,"-") -> 1.3 | D28: =+IF(D6>0,(H6-D6)/D6,"-") -> -0.89655172
B29: ARAGÓN | C29: =+IF(C7>0,(G7-C7)/C7,"-") -> 1 | D29: =+IF(D7>0,(H7-D7)/D7,"-") -> 0
B30: ASTURIAS, PRINCIPADO | C30: =+IF(C8>0,(G8-C8)/C8,"-") -> -0.69565217 | D30: =+IF(D8>0,(H8-D8)/D8,"-") -> 1.3333333
B31: ILLES BALEARS | C31: =+IF(C9>0,(G9-C9)/C9,"-") -> -0.88888889 | D31: =+IF(D9>0,(H9-D9)/D9,"-") -> -1
B32: CANARIAS | C32: =+IF(C10>0,(G10-C10)/C10,"-") -> -0.066666667 | D32: =+IF(D10>0,(H10-D10)/D10,"-") -> 1
B33: CANTABRIA | C33: =+IF(C11>0,(G11-C11)/C11,"-") -> -0.41666667 | D33: =+IF(D11>0,(H11-D11)/D11,"-") -> -0.66666667
B34: CASTILLA Y LEÓN | C34: =+IF(C12>0,(G12-C12)/C12,"-") -> 0.0625 | D34: =+IF(D12>0,(H12-D12)/D12,"-") -> -0.68421053
B35: CASTILLA - LA MANCHA | C35: =+IF(C13>0,(G13-C13)/C13,"-") -> -0.33333333 | D35: =+IF(D13>0,(H13-D13)/D13,"-") -> -0.36363636
B36: CATALUÑA | C36: =+IF(C14>0,(G14-C14)/C14,"-") -> -0.065217391 | D36: =+IF(D14>0,(H14-D14)/D14,"-") -> 0.1015625
B37: COMUNITAT VALENCIANA | C37: =+IF(C15>0,(G15-C15)/C15,"-") -> 0.703125 | D37: =+IF(D15>0,(H15-D15)/D15,"-") -> 0.37931034
B38: EXTREMADURA | C38: =+IF(C16>0,(G16-C16)/C16,"-") -> -0.57692308 | D38: =+IF(D16>0,(H16-D16)/D16,"-") -> -0.61702128
B39: GALICIA | C39: =+IF(C17>0,(G17-C17)/C17,"-") -> 0.28571429 | D39: =+IF(D17>0,(H17-D17)/D17,"-") -> -0.35483871
... B44: LA RIOJA | C44: =+IF(C22>0,(G22-C22)/C22,"-") -> -0.83333333 | D44: =+IF(D22>0,(H22-D22)/D22,"-") -> 0
B45: TOTAL | C45: =+(G23-C23)/C23 -> -0.031550069 | D45: =+IF(D23>0,(H23-D23)/D23,"-") -> -0.10756972
C53: 25-T1 | D53: 25-T2 | E53: 25-T3 | F53: 25-T4 | G53: 26-T1 | H53: 26-T2 | I53: 45658
B54: ANDALUCÍA | C54: =+C6/$I54*100000 -> 0.11302823 | D54: =+D6/$I54*100000 -> 0.32778188 | E54: =+E6/$I54*100000 -> 0.192148 | F54: =+F6/$I54*100000 -> 0.16954235 | G54: =+G6/$I54*100000 -> 0.25996494 | H54: =+H6/$I54*100000 -> 0.03390847 | I54: 8847347
B55: ARAGÓN | C55: =+C7/$I55*100000 -> 0.29312168 | D55: =+D7/$I55*100000 -> 0.43968252 | E55: =+E7/$I55*100000 -> 0 | F55: =+F7/$I55*100000 -> 0.43968252 | G55: =+G7/$I55*100000 -> 0.58624336 | H55: =+H7/$I55*100000 -> 0.43968252 | I55: 1364621
B56: ASTURIAS, PRINCIPADO | C56: =+C8/$I56*100000 -> 2.2657241 | D56: =+D8/$I56*100000 -> 0.29552923 | E56: =+E8/$I56*100000 -> 0.98509745 | F56: =+F8/$I56*100000 -> 0.19701949 | G56: =+G8/$I56*100000 -> 0.68956821 | H56: =+H8/$I56*100000 -> 0.68956821 | I56: 1015128
B57: ILLES BALEARS | C57: =+C9/$I57*100000 -> 0.72008987 | D57: =+D9/$I57*100000 -> 0.64007988 | E57: =+E9/$I57*100000 -> 0 | F57: =+F9/$I57*100000 -> 0.40004993 | G57: =+G9/$I57*100000 -> 0.080009985 | H57: =+H9/$I57*100000 -> 0 | I57: 1249844
B58: CANARIAS | C58: =+C10/$I58*100000 -> 0.66405001 | D58: =+D10/$I58*100000 -> 0.26562001 | E58: =+E10/$I58*100000 -> 0 | F58: =+F10/$I58*100000 -> 1.06248 | G58: =+G10/$I58*100000 -> 0.61978001 | H58: =+H10/$I58*100000 -> 0.53124001 | I58: 2258866
B59: CANTABRIA | C59: =+C11/$I59*100000 -> 2.021485 | D59: =+D11/$I59*100000 -> 2.021485 | E59: =+E11/$I59*100000 -> 0.84228542 | F59: =+F11/$I59*100000 -> 3.7060559 | G59: =+G11/$I59*100000 -> 1.1791996 | H59: =+H11/$I59*100000 -> 0.67382834 | I59: 593623
B60: CASTILLA - LEÓN | C60: =+C12/$I60*100000 -> 0.66632767 | D60: =+D12/$I60*100000 -> 0.79126411 | E60: =+E12/$I60*100000 -> 0.54139123 | F60: =+F12/$I60*100000 -> 0.4164548 | G60: =+G12/$I60*100000 -> 0.70797315 | H60: =+H12/$I60*100000 -> 0.24987288 | I60: 2401221
B61: CASTILLA - LA MANCHA | C61: =+C13/$I61*100000 -> 1.4108498 | D61: =+D13/$I61*100000 -> 1.0346232 | E61: =+E13/$I61*100000 -> 0.61136825 | F61: =+F13/$I61*100000 -> 0.89353821 | G61: =+G13/$I61*100000 -> 0.94056654 | H61: =+H13/$I61*100000 -> 0.65839658 | I61: 2126378
B62: CATALUÑA | C62: =+C14/$I62*100000 -> 5.0959328 | D62: =+D14/$I62*100000 -> 4.7266623 | E62: =+E14/$I62*100000 -> 4.2712287 | F62: =+F14/$I62*100000 -> 3.6803959 | G62: =+G14/$I62*100000 -> 4.7635893 | H62: =+H14/$I62*100000 -> 5.2067139 | I62: 8124126
B63: C. VALENCIANA | C63: =+C15/$I63*100000 -> 1.1796839 | D63: =+D15/$I63*100000 -> 1.0690886 | E63: =+E15/$I63*100000 -> 0.8110327 | F63: =+F15/$I63*100000 -> 1.0137909 | G63: =+G15/$I63*100000 -> 2.0091492 | H63: =+H15/$I63*100000 -> 1.4746049 | I63: 5425182
...

Sheet Concursos TSJ pers. nat.no emp 
C5: 25-T1 | D5: 25-T2 | E5: 25-T3 | F5: 25-T4 | G5: 26-T1 | H5: 26-T2
B6: ANDALUCÍA | C6: 2338 | D6: 2865 | E6: 2305 | F6: 3094 | G6: 2910 | H6: 2700
B7: ARAGÓN | C7: 264 | D7: 322 | E7: 334 | F7: 334 | G7: 341 | H7: 316
B8: ASTURIAS, PRINCIPADO | C8: 226 | D8: 290 | E8: 233 | F8: 300 | G8: 323 | H8: 294
B9: ILLES BALEARS | C9: 382 | D9: 534 | E9: 471 | F9: 550 | G9: 543 | H9: 573
B10: CANARIAS | C10: 975 | D10: 1104 | E10: 1078 | F10: 1170 | G10: 957 | H10: 891
B11: CANTABRIA | C11: 87 | D11: 132 | E11: 89 | F11: 137 | G11: 58 | H11: 197
B12: CASTILLA Y LEÓN | C12: 559 | D12: 542 | E12: 437 | F12: 596 | G12: 474 | H12: 588
B13: CASTILLA - LA MANCHA | C13: 525 | D13: 632 | E13: 479 | F13: 660 | G13: 674 | H13: 677
B14: CATALUÑA | C14: 3656 | D14: 3548 | E14: 3320 | F14: 3981 | G14: 3619 | H14: 3802
B15: COMUNITAT VALENCIANA | C15: 1866 | D15: 2029 | E15: 1696 | F15: 1828 | G15: 2057 | H15: 1748
B16: EXTREMADURA | C16: 202 | D16: 186 | E16: 183 | F16: 227 | G16: 181 | H16: 251
B17: GALICIA | C17: 637 | D17: 681 | E17: 615 | F17: 673 | G17: 682 | H17: 773
... B23: TOTAL | C23: 15833 | D23: 16011 | E23: 15488 | F23: 19239 | G23: 16999 | H23: 16948
C27: Evolución 26-T1 | D27: Evolución 26-T2
B28: ANDALUCÍA | C28: =+(G6-C6)/C6 -> 0.24465355 | D28: =+(H6-D6)/D6 -> -0.057591623
B29: ARAGÓN | C29: =+(G7-C7)/C7 -> 0.29166667 | D29: =+(H7-D7)/D7 -> -0.01863354
B30: ASTURIAS, PRINCIPADO | C30: =+(G8-C8)/C8 -> 0.42920354 | D30: =+(H8-D8)/D8 -> 0.013793103
B31: ILLES BALEARS | C31: =+(G9-C9)/C9 -> 0.42146597 | D31: =+(H9-D9)/D9 -> 0.073033708
B32: CANARIAS | C32: =+(G10-C10)/C10 -> -0.018461538 | D32: =+(H10-D10)/D10 -> -0.19293478
B33: CANTABRIA | C33: =+(G11-C11)/C11 -> -0.33333333 | D33: =+(H11-D11)/D11 -> 0.49242424
B34: CASTILLA Y LEÓN | C34: =+(G12-C12)/C12 -> -0.15205725 | D34: =+(H12-D12)/D12 -> 0.084870849
B35: CASTILLA - LA MANCHA | C35: =+(G13-C13)/C13 -> 0.28380952 | D35: =+(H13-D13)/D13 -> 0.071202532
B36: CATALUÑA | C36: =+(G14-C14)/C14 -> -0.01012035 | D36: =+(H14-D14)/D14 -> 0.071589628
B37: COMUNITAT VALENCIANA | C37: =+(G15-C15)/C15 -> 0.10235798 | D37: =+(H15-D15)/D15 -> -0.13849187
B38: EXTREMADURA | C38: =+(G16-C16)/C16 -> -0.1039604 | D38: =+(H16-D16)/D16 -> 0.34946237
B39: GALICIA | C39: =+(G17-C17)/C17 -> 0.070643642 | D39: =+(H17-D17)/D17 -> 0.13509545
... B45: TOTAL | C45: =+(G23-C23)/C23 -> 0.073643656 | D45: =+(H23-D23)/D23 -> 0.058522266
L50: 11.57
C53: 25-T1 | D53: 25-T2 | E53: 25-T3 | F53: 25-T4 | G53: 26-T1 | H53: 26-T2 | J53: 45658
B54: ANDALUCÍA | C54: =+C6/$J54*100000 -> 26.426001 | D54: =+D6/$J54*100000 -> 32.382589 | E54: =+E6/$J54*100000 -> 26.053008 | F54: =+F6/$J54*100000 -> 34.970935 | G54: =+G6/$J54*100000 -> 32.891216 | H54: =+H6/$J54*100000 -> 30.517623 | J54: 8847347
B55: ARAGÓN | C55: =+C7/$J55*100000 -> 19.346031 | D55: =+D7/$J55*100000 -> 23.596295 | E55: =+E7/$J55*100000 -> 24.47566 | F55: =+F7/$J55*100000 -> 24.47566 | G55: =+G7/$J55*100000 -> 24.988623 | H55: =+H7/$J55*100000 -> 23.156613 | J55: 1364621
B56: ASTURIAS, PRINCIPADO | C56: =+C8/$J56*100000 -> 22.263202 | D56: =+D8/$J56*100000 -> 28.567826 | E56: =+E8/$J56*100000 -> 22.95277 | F56: =+F8/$J56*100000 -> 29.552923 | G56: =+G8/$J56*100000 -> 31.818648 | H56: =+H8/$J56*100000 -> 28.961865 | J56: 1015128
B57: ILLES BALEARS | C57: =+C9/$J57*100000 -> 30.563814 | D57: =+D9/$J57*100000 -> 42.725332 | E57: =+E9/$J57*100000 -> 37.684703 | F57: =+F9/$J57*100000 -> 44.005492 | G57: =+G9/$J57*100000 -> 43.445422 | H57: =+H9/$J57*100000 -> 45.845722 | J57: 1249844
B58: CANARIAS | C58: =+C10/$J58*100000 -> 43.163251 | D58: =+D10/$J58*100000 -> 48.874081 | E58: =+E10/$J58*100000 -> 47.723061 | F58: =+F10/$J58*100000 -> 51.795901 | G58: =+G10/$J58*100000 -> 42.366391 | H58: =+H10/$J58*100000 -> 39.444571 | J58: 2258866
B59: CANTABRIA | C59: =+C11/$J59*100000 -> 14.655766 | D59: =+D11/$J59*100000 -> 22.236335 | E59: =+E11/$J59*100000 -> 14.992681 | F59: =+F11/$J59*100000 -> 23.078621 | G59: =+G11/$J59*100000 -> 9.7705109 | H59: =+H11/$J59*100000 -> 33.186046 | J59: 593623
B60: CASTILLA - LEÓN | C60: =+C12/$J60*100000 -> 23.279823 | D60: =+D12/$J60*100000 -> 22.57185 | E60: =+E12/$J60*100000 -> 18.199075 | F60: =+F12/$J60*100000 -> 24.820706 | G60: =+G12/$J60*100000 -> 19.739957 | H60: =+H12/$J60*100000 -> 24.487542 | J60: 2401221
B61: CASTILLA - LA MANCHA | C61: =+C13/$J61*100000 -> 24.689872 | D61: =+D13/$J61*100000 -> 29.721903 | E61: =+E13/$J61*100000 -> 22.526569 | F61: =+F13/$J61*100000 -> 31.038696 | G61: =+G13/$J61*100000 -> 31.697092 | H61: =+H13/$J61*100000 -> 31.838177 | J61: 2126378
B62: CATALUÑA | C62: =+C14/$J62*100000 -> 45.001764 | D62: =+D14/$J62*100000 -> 43.67239 | E62: =+E14/$J62*100000 -> 40.865934 | F62: =+F14/$J62*100000 -> 49.002194 | G62: =+G14/$J62*100000 -> 44.54633 | H62: =+H14/$J62*100000 -> 46.79888 | J62: 8124126
B63: C. VALENCIANA | C63: =+C15/$J63*100000 -> 34.395159 | D63: =+D15/$J63*100000 -> 37.399667 | E63: =+E15/$J63*100000 -> 31.261624 | F63: =+F15/$J63*100000 -> 33.694722 | G63: =+G15/$J63*100000 -> 37.915779 | H63: =+H15/$J63*100000 -> 32.220117 | J63: 5425182
...

Sheet Total concursos TSJ
C5: 25-T1 | D5: 25-T2 | E5: 25-T3 | F5: 25-T4 | G5: 26-T1 | H5: 26-T2
B6: ANDALUCÍA | C6: 2549 | D6: 3094 | E6: 2505 | F6: 3302 | G6: 3117 | H6: 2891
B7: ARAGÓN | C7: 291 | D7: 355 | E7: 350 | F7: 380 | G7: 373 | H7: 347
B8: ASTURIAS, PRINCIPADO | C8: 263 | D8: 307 | E8: 257 | F8: 325 | G8: 348 | H8: 318
B9: ILLES BALEARS | C9: 418 | D9: 578 | E9: 493 | F9: 586 | G9: 594 | H9: 617
B10: CANARIAS | C10: 1022 | D10: 1132 | E10: 1094 | F10: 1216 | G10: 988 | H10: 918
B11: CANTABRIA | C11: 109 | D11: 154 | E11: 97 | F11: 162 | G11: 67 | H11: 206
B12: CASTILLA Y LEÓN | C12: 603 | D12: 591 | E12: 483 | F12: 655 | G12: 521 | H12: 671
B13: CASTILLA - LA MANCHA | C13: 611 | D13: 700 | E13: 522 | F13: 719 | G13: 745 | H13: 733
B14: CATALUÑA | C14: 4493 | D14: 4322 | E14: 3968 | F14: 4721 | G14: 4488 | H14: 4631
B15: COMUNITAT VALENCIANA | C15: 2129 | D15: 2276 | E15: 1877 | F15: 2094 | G15: 2323 | H15: 2002
B16: EXTREMADURA | C16: 249 | D16: 262 | E16: 243 | F16: 287 | G16: 205 | H16: 286
B17: GALICIA | C17: 706 | D17: 814 | E17: 682 | F17: 759 | G17: 748 | H17: 864
... B23: TOTAL | C23: 18017 | D23: 18106 | E23: 17223 | F23: 21393 | G23: 19100 | H23: 19024
C27: Evolución 26-T1 | D27: Evolución 26-T2
B28: ANDALUCÍA | C28: =+(G6-C6)/C6 -> 0.22283248 | D28: =+(H6-D6)/D6 -> -0.06561086
B29: ARAGÓN | C29: =+(G7-C7)/C7 -> 0.28178694 | D29: =+(H7-D7)/D7 -> -0.022535211
B30: ASTURIAS, PRINCIPADO | C30: =+(G8-C8)/C8 -> 0.32319392 | D30: =+(H8-D8)/D8 -> 0.035830619
B31: ILLES BALEARS | C31: =+(G9-C9)/C9 -> 0.42105263 | D31: =+(H9-D9)/D9 -> 0.067474048
B32: CANARIAS | C32: =+(G10-C10)/C10 -> -0.033268102 | D32: =+(H10-D10)/D10 -> -0.18904594
B33: CANTABRIA | C33: =+(G11-C11)/C11 -> -0.3853211 | D33: =+(H11-D11)/D11 -> 0.33766234
B34: CASTILLA Y LEÓN | C34: =+(G12-C12)/C12 -> -0.13598673 | D34: =+(H12-D12)/D12 -> 0.13536379
B35: CASTILLA - LA MANCHA | C35: =+(G13-C13)/C13 -> 0.2193126 | D35: =+(H13-D13)/D13 -> 0.047142857
B36: CATALUÑA | C36: =+(G14-C14)/C14 -> -0.0011128422 | D36: =+(H14-D14)/D14 -> 0.071494678
B37: COMUNITAT VALENCIANA | C37: =+(G15-C15)/C15 -> 0.091122593 | D37: =+(H15-D15)/D15 -> -0.12038664
B38: EXTREMADURA | C38: =+(G16-C16)/C16 -> -0.17670683 | D38: =+(H16-D16)/D16 -> 0.091603053
B39: GALICIA | C39: =+(G17-C17)/C17 -> 0.059490085 | D39: =+(H17-D17)/D17 -> 0.061425061
... B45: TOTAL | C45: =+(G23-C23)/C23 -> 0.060109896 | D45: =+(H23-D23)/D23 -> 0.050701425
C53: 25-T1 | D53: 25-T2 | E53: 25-T3 | F53: 25-T4 | G53: 26-T1 | H53: 26-T2 | J53: 45658
B54: ANDALUCÍA | C54: =+C6/$J54*100000 -> 28.810897 | D54: =+D6/$J54*100000 -> 34.970935 | E54: =+E6/$J54*100000 -> 28.313572 | F54: =+F6/$J54*100000 -> 37.321923 | G54: =+G6/$J54*100000 -> 35.2309 | H54: =+H6/$J54*100000 -> 32.676462 | J54: 8847347
B55: ARAGÓN | C55: =+C7/$J55*100000 -> 21.324602 | D55: =+D7/$J55*100000 -> 26.014549 | E55: =+E7/$J55*100000 -> 25.648147 | F55: =+F7/$J55*100000 -> 27.84656 | G55: =+G7/$J55*100000 -> 27.333597 | H55: =+H7/$J55*100000 -> 25.428306 | J55: 1364621
B56: ASTURIAS, PRINCIPADO | C56: =+C8/$J56*100000 -> 25.908063 | D56: =+D8/$J56*100000 -> 30.242492 | E56: =+E8/$J56*100000 -> 25.317004 | F56: =+F8/$J56*100000 -> 32.015667 | G56: =+G8/$J56*100000 -> 34.281391 | H56: =+H8/$J56*100000 -> 31.326099 | J56: 1015128
B57: ILLES BALEARS | C57: =+C9/$J57*100000 -> 33.444174 | D57: =+D9/$J57*100000 -> 46.245771 | E57: =+E9/$J57*100000 -> 39.444923 | F57: =+F9/$J57*100000 -> 46.885851 | G57: =+G9/$J57*100000 -> 47.525931 | H57: =+H9/$J57*100000 -> 49.366161 | J57: 1249844
B58: CANARIAS | C58: =+C10/$J58*100000 -> 45.243941 | D58: =+D10/$J58*100000 -> 50.113641 | E58: =+E10/$J58*100000 -> 48.431381 | F58: =+F10/$J58*100000 -> 53.832321 | G58: =+G10/$J58*100000 -> 43.738761 | H58: =+H10/$J58*100000 -> 40.639861 | J58: 2258866
B59: CANTABRIA | C59: =+C11/$J59*100000 -> 18.361822 | D59: =+D11/$J59*100000 -> 25.942391 | E59: =+E11/$J59*100000 -> 16.340337 | F59: =+F11/$J59*100000 -> 27.290048 | G59: =+G11/$J59*100000 -> 11.286625 | H59: =+H11/$J59*100000 -> 34.702159 | J59: 593623
B60: CASTILLA - LEÓN | C60: =+C12/$J60*100000 -> 25.112224 | D60: =+D12/$J60*100000 -> 24.612478 | E60: =+E12/$J60*100000 -> 20.114767 | F60: =+F12/$J60*100000 -> 27.277789 | G60: =+G12/$J60*100000 -> 21.697295 | H60: =+H12/$J60*100000 -> 27.944117 | J60: 2401221
B61: CASTILLA - LA MANCHA | C61: =+C13/$J61*100000 -> 28.734308 | D61: =+D13/$J61*100000 -> 32.919829 | E61: =+E13/$J61*100000 -> 24.548787 | F61: =+F13/$J61*100000 -> 33.813367 | G61: =+G13/$J61*100000 -> 35.036104 | H61: =+H13/$J61*100000 -> 34.471764 | J61: 2126378
B62: CATALUÑA | C62: =+C14/$J62*100000 -> 55.304411 | D62: =+D14/$J62*100000 -> 53.199569 | E62: =+E14/$J62*100000 -> 48.842177 | F62: =+F14/$J62*100000 -> 58.110866 | G62: =+G14/$J62*100000 -> 55.242866 | H62: =+H14/$J62*100000 -> 57.003055 | J62: 8124126
B63: C. VALENCIANA | C63: =+C15/$J63*100000 -> 39.242923 | D63: =+D15/$J63*100000 -> 41.95251 | E63: =+E15/$J63*100000 -> 34.597918 | F63: =+F15/$J63*100000 -> 38.597783 | G63: =+G15/$J63*100000 -> 42.81884 | H63: =+H15/$J63*100000 -> 36.901988 | J63: 5425182
B64: EXTREMADURA | C64: =+C16/$J64*100000 -> 23.638979 | D64: =+D16/$J64*100000 -> 24.873142 | E64: =+E16/$J64*100000 -> 23.069365 | F64: =+F16/$J64*100000 -> 27.246534 | G64: =+G16/$J64*100000 -> 19.46181 | H64: =+H16/$J64*100000 -> 27.151598 | J64: 1053345
...

Sheet Concursos declarados TSJ
C5: 25-T1 | D5: 25-T2 | E5: 25-T3 | F5: 25-T4 | G5: 26-T1 | H5: 26-T2
B6: ANDALUCÍA | C6: 2226 | D6: 1983 | E6: 1127 | F6: 2462 | G6: 2050 | H6: 1889
B7: ARAGÓN | C7: 208 | D7: 197 | E7: 174 | F7: 188 | G7: 164 | H7: 169
B8: ASTURIAS, PRINCIPADO | C8: 266 | D8: 270 | E8: 207 | F8: 348 | G8: 275 | H8: 266
B9: ILLES BALEARS | C9: 362 | D9: 492 | E9: 511 | F9: 395 | G9: 644 | H9: 443
B10: CANARIAS | C10: 571 | D10: 1298 | E10: 659 | F10: 826 | G10: 1008 | H10: 658
B11: CANTABRIA | C11: 78 | D11: 40 | E11: 115 | F11: 128 | G11: 73 | H11: 57
B12: CASTILLA Y LEÓN | C12: 553 | D12: 392 | E12: 332 | F12: 479 | G12: 346 | H12: 422
B13: CASTILLA - LA MANCHA | C13: 489 | D13: 475 | E13: 346 | F13: 464 | G13: 503 | H13: 476
B14: CATALUÑA | C14: 4097 | D14: 3449 | E14: 2930 | F14: 4146 | G14: 3966 | H14: 3966
B15: COMUNITAT VALENCIANA | C15: 1647 | D15: 1802 | E15: 1578 | F15: 1828 | G15: 1733 | H15: 1631
B16: EXTREMADURA | C16: 126 | D16: 127 | E16: 159 | F16: 145 | G16: 179 | H16: 162
B17: GALICIA | C17: 438 | D17: 495 | E17: 575 | F17: 587 | G17: 653 | H17: 519
... B23: TOTAL | C23: 14849 | D23: 14189 | E23: 12092 | F23: 16294 | G23: 15316 | H23: 13798
C27: Evolución 26-T1 | D27: Evolución 26-T2
B28: ANDALUCÍA | C28: =+IF(C6>0,(G6-C6)/C6,"-") -> -0.079065588 | D28: =+IF(D6>0,(H6-D6)/D6,"-") -> -0.047402925
B29: ARAGÓN | C29: =+IF(C7>0,(G7-C7)/C7,"-") -> -0.21153846 | D29: =+IF(D7>0,(H7-D7)/D7,"-") -> -0.14213198
B30: ASTURIAS, PRINCIPADO | C30: =+IF(C8>0,(G8-C8)/C8,"-") -> 0.033834586 | D30: =+IF(D8>0,(H8-D8)/D8,"-") -> -0.014814815
B31: ILLES BALEARS | C31: =+IF(C9>0,(G9-C9)/C9,"-") -> 0.77900552 | D31: =+IF(D9>0,(H9-D9)/D9,"-") -> -0.099593496
B32: CANARIAS | C32: =+IF(C10>0,(G10-C10)/C10,"-") -> 0.76532399 | D32: =+IF(D10>0,(H10-D10)/D10,"-") -> -0.49306626
B33: CANTABRIA | C33: =+IF(C11>0,(G11-C11)/C11,"-") -> -0.064102564 | D33: =+IF(D11>0,(H11-D11)/D11,"-") -> 0.425
B34: CASTILLA Y LEÓN | C34: =+IF(C12>0,(G12-C12)/C12,"-") -> -0.37432188 | D34: =+IF(D12>0,(H12-D12)/D12,"-") -> 0.076530612
B35: CASTILLA - LA MANCHA | C35: =+IF(C13>0,(G13-C13)/C13,"-") -> 0.028629857 | D35: =+IF(D13>0,(H13-D13)/D13,"-") -> 0.0021052632
B36: CATALUÑA | C36: =+IF(C14>0,(G14-C14)/C14,"-") -> -0.031974616 | D36: =+IF(D14>0,(H14-D14)/D14,"-") -> 0.14989852
B37: COMUNITAT VALENCIANA | C37: =+IF(C15>0,(G15-C15)/C15,"-") -> 0.052216151 | D37: =+IF(D15>0,(H15-D15)/D15,"-") -> -0.094894562
B38: EXTREMADURA | C38: =+IF(C16>0,(G16-C16)/C16,"-") -> 0.42063492 | D38: =+IF(D16>0,(H16-D16)/D16,"-") -> 0.27559055
B39: GALICIA | C39: =+IF(C17>0,(G17-C17)/C17,"-") -> 0.49086758 | D39: =+IF(D17>0,(H17-D17)/D17,"-") -> 0.048484848
... B45: TOTAL | C45: =+IF(C23>0,(G23-C23)/C23,"-") -> 0.031449929 | D45: =+IF(D23>0,(H23-D23)/D23,"-") -> -0.027556558

Sheet Concursos Convenio TSJ
C5: 25-T1 | D5: 25-T2 | E5: 25-T3 | F5: 25-T4 | G5: 26-T1 | H5: 26-T2
B6: ANDALUCÍA | C6: 8 | D6: 18 | E6: 2 | F6: 8 | G6: 5 | H6: 0
B7: ARAGÓN | C7: 5 | D7: 2 | E7: 3 | F7: 0 | G7: 0 | H7: 1
B8: ASTURIAS, PRINCIPADO | C8: 0 | D8: 0 | E8: 0 | F8: 1 | G8: 0 | H8: 0
B9: ILLES BALEARS | C9: 1 | D9: 1 | E9: 3 | F9: 1 | G9: 0 | H9: 0
B10: CANARIAS | C10: 0 | D10: 0 | E10: 0 | F10: 0 | G10: 0 | H10: 0
B11: CANTABRIA | C11: 0 | D11: 0 | E11: 0 | F11: 0 | G11: 0 | H11: 0
B12: CASTILLA Y LEÓN | C12: 7 | D12: 0 | E12: 0 | F12: 1 | G12: 3 | H12: 8
B13: CASTILLA - LA MANCHA | C13: 1 | D13: 0 | E13: 0 | F13: 8 | G13: 2 | H13: 2
B14: CATALUÑA | C14: 6 | D14: 4 | E14: 2 | F14: 8 | G14: 4 | H14: 4
B15: COMUNITAT VALENCIANA | C15: 3 | D15: 2 | E15: 4 | F15: 0 | G15: 3 | H15: 2
B16: EXTREMADURA | C16: 0 | D16: 4 | E16: 2 | F16: 2 | G16: 0 | H16: 1
B17: GALICIA | C17: 4 | D17: 3 | E17: 6 | F17: 0 | G17: 1 | H17: 6
... B23: TOTAL | C23: 54 | D23: 49 | E23: 44 | F23: 50 | G23: 36 | H23: 56
C27: Evolución 26-T1 | D27: Evolución 26-T2
B28: ANDALUCÍA | C28: =+IF(C6>0,(G6-C6)/C6,"-") -> -0.375 | D28: =+IF(D6>0,(H6-D6)/D6,"-") -> -1
B29: ARAGÓN | C29: =+IF(C7>0,(G7-C7)/C7,"-") -> -1 | D29: =+IF(D7>0,(H7-D7)/D7,"-") -> -0.5
B30: ASTURIAS, PRINCIPADO | C30: =+IF(C8>0,(G8-C8)/C8,"-") -> - | D30: =+IF(D8>0,(H8-D8)/D8,"-") -> -
B31: ILLES BALEARS | C31: =+IF(C9>0,(G9-C9)/C9,"-") -> -1 | D31: =+IF(D9>0,(H9-D9)/D9,"-") -> -1
B32: CANARIAS | C32: =+IF(C10>0,(G10-C10)/C10,"-") -> - | D32: =+IF(D10>0,(H10-D10)/D10,"-") -> -
B33: CANTABRIA | C33: =+IF(C11>0,(G11-C11)/C11,"-") -> - | D33: =+IF(D11>0,(H11-D11)/D11,"-") -> -
B34: CASTILLA Y LEÓN | C34: =+IF(C12>0,(G12-C12)/C12,"-") -> -0.57142857 | D34: =+IF(D12>0,(H12-D12)/D12,"-") -> -
B35: CASTILLA - LA MANCHA | C35: =+IF(C13>0,(G13-C13)/C13,"-") -> 1 | D35: =+IF(D13>0,(H13-D13)/D13,"-") -> -
B36: CATALUÑA | C36: =+IF(C14>0,(G14-C14)/C14,"-") -> -0.33333333 | D36: =+IF(D14>0,(H14-D14)/D14,"-") -> 0
B37: COMUNITAT VALENCIANA | C37: =+IF(C15>0,(G15-C15)/C15,"-") -> 0 | D37: =+IF(D15>0,(H15-D15)/D15,"-") -> 0
B38: EXTREMADURA | C38: =+IF(C16>0,(G16-C16)/C16,"-") -> - | D38: =+IF(D16>0,(H16-D16)/D16,"-") -> -0.75
B39: GALICIA | C39: =+IF(C17>0,(G17-C17)/C17,"-") -> -0.75 | D39: =+IF(D17>0,(H17-D17)/D17,"-") -> 1
... B45: TOTAL | C45: =+IF(C23>0,(G23-C23)/C23,"-") -> -0.33333333 | D45: =+IF(D23>0,(H23-D23)/D23,"-") -> 0.14285714

Sheet Concursos Liquidación TSJ
C5: 25-T1 | D5: 25-T2 | E5: 25-T3 | F5: 25-T4 | G5: 26-T1 | H5: 26-T2
B6: ANDALUCÍA | C6: 266 | D6: 221 | E6: 197 | F6: 311 | G6: 296 | H6: 340
B7: ARAGÓN | C7: 41 | D7: 21 | E7: 15 | F7: 38 | G7: 24 | H7: 19
B8: ASTURIAS, PRINCIPADO | C8: 23 | D8: 9 | E8: 5 | F8: 10 | G8: 11 | H8: 16
B9: ILLES BALEARS | C9: 16 | D9: 23 | E9: 21 | F9: 7 | G9: 6 | H9: 11
B10: CANARIAS | C10: 23 | D10: 14 | E10: 6 | F10: 15 | G10: 13 | H10: 4
B11: CANTABRIA | C11: 5 | D11: 4 | E11: 2 | F11: 10 | G11: 8 | H11: 7
B12: CASTILLA Y LEÓN | C12: 32 | D12: 26 | E12: 13 | F12: 19 | G12: 16 | H12: 20
B13: CASTILLA - LA MANCHA | C13: 19 | D13: 12 | E13: 18 | F13: 17 | G13: 9 | H13: 19
B14: CATALUÑA | C14: 94 | D14: 195 | E14: 105 | F14: 108 | G14: 130 | H14: 129
B15: COMUNITAT VALENCIANA | C15: 60 | D15: 50 | E15: 33 | F15: 47 | G15: 33 | H15: 34
B16: EXTREMADURA | C16: 37 | D16: 19 | E16: 11 | F16: 7 | G16: 12 | H16: 12
B17: GALICIA | C17: 74 | D17: 74 | E17: 64 | F17: 57 | G17: 42 | H17: 67
... B23: TOTAL | C23: 823 | D23: 761 | E23: 901 | F23: 1163 | G23: 1041 | H23: 1212
C27: Evolución 26-T1 | D27: Evolución 26-T2
B28: ANDALUCÍA | C28: =+IF(C6>0,(G6-C6)/C6,"-") -> 0.11278195 | D28: =+IF(D6>0,(H6-D6)/D6,"-") -> 0.53846154
B29: ARAGÓN | C29: =+IF(C7>0,(G7-C7)/C7,"-") -> -0.41463415 | D29: =+IF(D7>0,(H7-D7)/D7,"-") -> -0.095238095
B30: ASTURIAS, PRINCIPADO | C30: =+IF(C8>0,(G8-C8)/C8,"-") -> -0.52173913 | D30: =+IF(D8>0,(H8-D8)/D8,"-") -> 0.77777778
B31: ILLES BALEARS | C31: =+IF(C9>0,(G9-C9)/C9,"-") -> -0.625 | D31: =+IF(D9>0,(H9-D9)/D9,"-") -> -0.52173913
B32: CANARIAS | C32: =+IF(C10>0,(G10-C10)/C10,"-") -> -0.43478261 | D32: =+IF(D10>0,(H10-D10)/D10,"-") -> -0.71428571
B33: CANTABRIA | C33: =+IF(C11>0,(G11-C11)/C11,"-") -> 0.6 | D33: =+IF(D11>0,(H11-D11)/D11,"-") -> 0.75
B34: CASTILLA Y LEÓN | C34: =+IF(C12>0,(G12-C12)/C12,"-") -> -0.5 | D34: =+IF(D12>0,(H12-D12)/D12,"-") -> -0.23076923
B35: CASTILLA - LA MANCHA | C35: =+IF(C13>0,(G13-C13)/C13,"-") -> -0.52631579 | D35: =+IF(D13>0,(H13-D13)/D13,"-") -> 0.58333333
B36: CATALUÑA | C36: =+IF(C14>0,(G14-C14)/C14,"-") -> 0.38297872 | D36: =+IF(D14>0,(H14-D14)/D14,"-") -> -0.33846154
B37: COMUNITAT VALENCIANA | C37: =+IF(C15>0,(G15-C15)/C15,"-") -> -0.45 | D37: =+IF(D15>0,(H15-D15)/D15,"-") -> -0.32
B38: EXTREMADURA | C38: =+IF(C16>0,(G16-C16)/C16,"-") -> -0.67567568 | D38: =+IF(D16>0,(H16-D16)/D16,"-") -> -0.36842105
B39: GALICIA | C39: =+IF(C17>0,(G17-C17)/C17,"-") -> -0.43243243 | D39: =+IF(D17>0,(H17-D17)/D17,"-") -> -0.094594595
... B45: TOTAL | C45: =+IF(C23>0,(G23-C23)/C23,"-") -> 0.26488457 | D45: =+IF(D23>0,(H23-D23)/D23,"-") -> 0.59264126

Sheet E.R.E's TSJ
C5: 25-T1 | D5: 25-T2 | E5: 25-T3 | F5: 25-T4 | G5: 26-T1 | H5: 26-T2
B6: ANDALUCÍA | C6: 2 | D6: 5 | E6: 2 | F6: 3 | G6: 4 | H6: 6
B7: ARAGÓN | C7: 2 | D7: 2 | E7: 2 | F7: 0 | G7: 2 | H7: 0
B8: ASTURIAS, PRINCIPADO | C8: 4 | D8: 0 | E8: 0 | F8: 2 | G8: 0 | H8: 0
B9: ILLES BALEARS | C9: 0 | D9: 2 | E9: 1 | F9: 5 | G9: 0 | H9: 1
B10: CANARIAS | C10: 1 | D10: 1 | E10: 2 | F10: 1 | G10: 0 | H10: 0
B11: CANTABRIA | C11: 1 | D11: 0 | E11: 0 | F11: 0 | G11: 0 | H11: 0
B12: CASTILLA Y LEÓN | C12: 1 | D12: 2 | E12: 0 | F12: 1 | G12: 0 | H12: 1
B13: CASTILLA - LA MANCHA | C13: 0 | D13: 1 | E13: 2 | F13: 3 | G13: 0 | H13: 0
B14: CATALUÑA | C14: 36 | D14: 26 | E14: 23 | F14: 35 | G14: 40 | H14: 40
B15: COMUNITAT VALENCIANA | C15: 11 | D15: 14 | E15: 5 | F15: 14 | G15: 7 | H15: 9
B16: EXTREMADURA | C16: 0 | D16: 0 | E16: 0 | F16: 0 | G16: 0 | H16: 2
B17: GALICIA | C17: 9 | D17: 10 | E17: 8 | F17: 7 | G17: 5 | H17: 4
... B23: TOTAL | C23: 107 | D23: 95 | E23: 90 | F23: 109 | G23: 86 | H23: 97
C27: Evolución 26-T1 | D27: Evolución 26-T2
B28: ANDALUCÍA | C28: =+IF(C6>0,(G6-C6)/C6,"-") -> 1 | D28: =+IF(D6>0,(H6-D6)/D6,"-") -> 0.2
B29: ARAGÓN | C29: =+IF(C7>0,(G7-C7)/C7,"-") -> 0 | D29: =+IF(D7>0,(H7-D7)/D7,"-") -> -1
B30: ASTURIAS, PRINCIPADO | C30: =+IF(C8>0,(G8-C8)/C8,"-") -> -1 | D30: =+IF(D8>0,(H8-D8)/D8,"-") -> -
B31: ILLES BALEARS | C31: =+IF(C9>0,(G9-C9)/C9,"-") -> - | D31: =+IF(D9>0,(H9-D9)/D9,"-") -> -0.5
B32: CANARIAS | C32: =+IF(C10>0,(G10-C10)/C10,"-") -> -1 | D32: =+IF(D10>0,(H10-D10)/D10,"-") -> -1
B33: CANTABRIA | C33: =+IF(C11>0,(G11-C11)/C11,"-") -> -1 | D33: =+IF(D11>0,(H11-D11)/D11,"-") -> -
B34: CASTILLA Y LEÓN | C34: =+IF(C12>0,(G12-C12)/C12,"-") -> -1 | D34: =+IF(D12>0,(H12-D12)/D12,"-") -> -0.5
B35: CASTILLA - LA MANCHA | C35: =+IF(C13>0,(G13-C13)/C13,"-") -> - | D35: =+IF(D13>0,(H13-D13)/D13,"-") -> -1
B36: CATALUÑA | C36: =+IF(C14>0,(G14-C14)/C14,"-") -> 0.11111111 | D36: =+IF(D14>0,(H14-D14)/D14,"-") -> 0.53846154
B37: COMUNITAT VALENCIANA | C37: =+IF(C15>0,(G15-C15)/C15,"-") -> -0.36363636 | D37: =+IF(D15>0,(H15-D15)/D15,"-") -> -0.35714286
B38: EXTREMADURA | C38: =+IF(C16>0,(G16-C16)/C16,"-") -> - | D38: =+IF(D16>0,(H16-D16)/D16,"-") -> -
B39: GALICIA | C39: =+IF(C17>0,(G17-C17)/C17,"-") -> -0.44444444 | D39: =+IF(D17>0,(H17-D17)/D17,"-") -> -0.6
... B45: TOTAL | C45: =+IF(C23>0,(G23-C23)/C23,"-") -> -0.19626168 | D45: =+IF(D23>0,(H23-D23)/D23,"-") -> 0.021052632

Sheet Concurs.sin masa declarados TSJ
C5: 25-T1 | D5: 25-T2 | E5: 25-T3 | F5: 25-T4 | G5: 26-T1 | H5: 26-T2
B6: ANDALUCÍA | C6: 1900 | D6: 1709 | E6: 908 | F6: 2087 | G6: 1678 | H6: 1626
B7: ARAGÓN | C7: 180 | D7: 171 | E7: 154 | F7: 152 | G7: 137 | H7: 148
B8: ASTURIAS, PRINCIPADO | C8: 242 | D8: 253 | E8: 187 | F8: 331 | G8: 261 | H8: 253
B9: ILLES BALEARS | C9: 322 | D9: 457 | E9: 449 | F9: 360 | G9: 607 | H9: 390
B10: CANARIAS | C10: 495 | D10: 1134 | E10: 572 | F10: 802 | G10: 926 | H10: 580
B11: CANTABRIA | C11: 54 | D11: 39 | E11: 104 | F11: 106 | G11: 56 | H11: 45
B12: CASTILLA Y LEÓN | C12: 507 | D12: 363 | E12: 298 | F12: 466 | G12: 291 | H12: 337
B13: CASTILLA - LA MANCHA | C13: 473 | D13: 466 | E13: 342 | F13: 431 | G13: 470 | H13: 456
B14: CATALUÑA | C14: 3521 | D14: 3047 | E14: 2636 | F14: 3170 | G14: 3383 | H14: 3311
B15: COMUNITAT VALENCIANA | C15: 1516 | D15: 1513 | E15: 1513 | F15: 1666 | G15: 1575 | H15: 1534
B16: EXTREMADURA | C16: 117 | D16: 100 | E16: 159 | F16: 139 | G16: 166 | H16: 153
B17: GALICIA | C17: 382 | D17: 422 | E17: 409 | F17: 529 | G17: 545 | H17: 440
... B23: TOTAL | C23: 13008 | D23: 12401 | E23: 10915 | F23: 14320 | G23: 13500 | H23: 12216
C27: Evolución 26-T1 | D27: Evolución 26-T2
B28: ANDALUCÍA | C28: =+IF(C6>0,(G6-C6)/C6,"-") -> -0.11684211 | D28: =+IF(D6>0,(H6-D6)/D6,"-") -> -0.048566413
B29: ARAGÓN | C29: =+IF(C7>0,(G7-C7)/C7,"-") -> -0.23888889 | D29: =+IF(D7>0,(H7-D7)/D7,"-") -> -0.13450292
B30: ASTURIAS, PRINCIPADO | C30: =+IF(C8>0,(G8-C8)/C8,"-") -> 0.078512397 | D30: =+IF(D8>0,(H8-D8)/D8,"-") -> 0
B31: ILLES BALEARS | C31: =+IF(C9>0,(G9-C9)/C9,"-") -> 0.88509317 | D31: =+IF(D9>0,(H9-D9)/D9,"-") -> -0.14660832
B32: CANARIAS | C32: =+IF(C10>0,(G10-C10)/C10,"-") -> 0.87070707 | D32: =+IF(D10>0,(H10-D10)/D10,"-") -> -0.48853616
B33: CANTABRIA | C33: =+IF(C11>0,(G11-C11)/C11,"-") -> 0.037037037 | D33: =+IF(D11>0,(H11-D11)/D11,"-") -> 0.15384615
B34: CASTILLA Y LEÓN | C34: =+IF(C12>0,(G12-C12)/C12,"-") -> -0.4260355 | D34: =+IF(D12>0,(H12-D12)/D12,"-") -> -0.071625344
B35: CASTILLA - LA MANCHA | C35: =+IF(C13>0,(G13-C13)/C13,"-") -> -0.0063424947 | D35: =+IF(D13>0,(H13-D13)/D13,"-") -> -0.021459227
B36: CATALUÑA | C36: =+IF(C14>0,(G14-C14)/C14,"-") -> -0.039193411 | D36: =+IF(D14>0,(H14-D14)/D14,"-") -> 0.086642599
B37: COMUNITAT VALENCIANA | C37: =+IF(C15>0,(G15-C15)/C15,"-") -> 0.038918206 | D37: =+IF(D15>0,(H15-D15)/D15,"-") -> 0.013879709
B38: EXTREMADURA | C38: =+IF(C16>0,(G16-C16)/C16,"-") -> 0.41880342 | D38: =+IF(D16>0,(H16-D16)/D16,"-") -> 0.53
B39: GALICIA | C39: =+IF(C17>0,(G17-C17)/C17,"-") -> 0.42670157 | D39: =+IF(D17>0,(H17-D17)/D17,"-") -> 0.042654028
... B45: TOTAL | C45: =+IF(C23>0,(G23-C23)/C23,"-") -> 0.037822878 | D45: =+IF(D23>0,(H23-D23)/D23,"-") -> -0.014918152

Sheet PEM TSJ persona jurídica
C5: 25-T1 | D5: 25-T2 | E5: 25-T3 | F5: 25-T4 | G5: 26-T1 | H5: 26-T2
B6: ANDALUCÍA | C6: 54 | D6: 38 | E6: 44 | F6: 67 | G6: 84 | H6: 56
B7: ARAGÓN | C7: 7 | D7: 10 | E7: 8 | F7: 7 | G7: 6 | H7: 4
B8: ASTURIAS, PRINCIPADO | C8: 15 | D8: 9 | E8: 5 | F8: 10 | G8: 6 | H8: 5
B9: ILLES BALEARS | C9: 2 | D9: 2 | E9: 1 | F9: 0 | G9: 0 | H9: 1
B10: CANARIAS | C10: 22 | D10: 19 | E10: 30 | F10: 37 | G10: 16 | H10: 21
B11: CANTABRIA | C11: 12 | D11: 2 | E11: 14 | F11: 4 | G11: 7 | H11: 6
B12: CASTILLA Y LEÓN | C12: 15 | D12: 16 | E12: 9 | F12: 10 | G12: 20 | H12: 18
B13: CASTILLA - LA MANCHA | C13: 10 | D13: 12 | E13: 3 | F13: 10 | G13: 9 | H13: 18
B14: CATALUÑA | C14: 47 | D14: 38 | E14: 34 | F14: 42 | G14: 61 | H14: 54
B15: COMUNITAT VALENCIANA | C15: 100 | D15: 108 | E15: 82 | F15: 89 | G15: 95 | H15: 60
B16: EXTREMADURA | C16: 9 | D16: 8 | E16: 5 | F16: 10 | G16: 19 | H16: 16
B17: GALICIA | C17: 7 | D17: 7 | E17: 3 | F17: 9 | G17: 3 | H17: 6
... B23: TOTAL | C23: 567 | D23: 492 | E23: 507 | F23: 488 | G23: 540 | H23: 500
C27: Evolución 26-T1 | D27: Evolución 26-T2
B28: ANDALUCÍA | C28: =+IF(C6>0,(G6-C6)/C6,"-") -> 0.55555556 | D28: =+IF(D6>0,(H6-D6)/D6,"-") -> 0.47368421
B29: ARAGÓN | C29: =+IF(C7>0,(G7-C7)/C7,"-") -> -0.14285714 | D29: =+IF(D7>0,(H7-D7)/D7,"-") -> -0.6
B30: ASTURIAS, PRINCIPADO | C30: =+IF(C8>0,(G8-C8)/C8,"-") -> -0.6 | D30: =+IF(D8>0,(H8-D8)/D8,"-") -> -0.44444444
B31: ILLES BALEARS | C31: =+IF(C9>0,(G9-C9)/C9,"-") -> -1 | D31: =+IF(D9>0,(H9-D9)/D9,"-") -> -0.5
B32: CANARIAS | C32: =+IF(C10>0,(G10-C10)/C10,"-") -> -0.27272727 | D32: =+IF(D10>0,(H10-D10)/D10,"-") -> 0.10526316
B33: CANTABRIA | C33: =+IF(C11>0,(G11-C11)/C11,"-") -> -0.41666667 | D33: =+IF(D11>0,(H11-D11)/D11,"-") -> 2
B34: CASTILLA Y LEÓN | C34: =+IF(C12>0,(G12-C12)/C12,"-") -> 0.33333333 | D34: =+IF(D12>0,(H12-D12)/D12,"-") -> 0.125
B35: CASTILLA - LA MANCHA | C35: =+IF(C13>0,(G13-C13)/C13,"-") -> -0.1 | D35: =+IF(D13>0,(H13-D13)/D13,"-") -> 0.5
B36: CATALUÑA | C36: =+IF(C14>0,(G14-C14)/C14,"-") -> 0.29787234 | D36: =+IF(D14>0,(H14-D14)/D14,"-") -> 0.42105263
B37: COMUNITAT VALENCIANA | C37: =+IF(C15>0,(G15-C15)/C15,"-") -> -0.05 | D37: =+IF(D15>0,(H15-D15)/D15,"-") -> -0.44444444
B38: EXTREMADURA | C38: =+IF(C16>0,(G16-C16)/C16,"-") -> 1.1111111 | D38: =+IF(D16>0,(H16-D16)/D16,"-") -> 1
B39: GALICIA | C39: =+IF(C17>0,(G17-C17)/C17,"-") -> -0.57142857 | D39: =+IF(D17>0,(H17-D17)/D17,"-") -> -0.14285714
... B45: TOTAL | C45: =+IF(C23>0,(G23-C23)/C23,"-") -> -0.047619048 | D45: =+IF(D23>0,(H23-D23)/D23,"-") -> 0.016260163
C51: 25-T1 | D51: 25-T2 | E51: 25-T3 | F51: 25-T4 | G51: 26-T1 | H51: 26-T2 | I51: 45658
B52: ANDALUCÍA | C52: =+C6/$I52*100000 -> 0.61035246 | D52: =+D6/$I52*100000 -> 0.42950729 | E52: =+E6/$I52*100000 -> 0.49732423 | F52: =+F6/$I52*100000 -> 0.75728916 | G52: =+G6/$I52*100000 -> 0.94943716 | H52: =+H6/$I52*100000 -> 0.63295811 | I52: 8847347
B53: ARAGÓN | C53: =+C7/$I53*100000 -> 0.51296294 | D53: =+D7/$I53*100000 -> 0.7328042 | E53: =+E7/$I53*100000 -> 0.58624336 | F53: =+F7/$I53*100000 -> 0.51296294 | G53: =+G7/$I53*100000 -> 0.43968252 | H53: =+H7/$I53*100000 -> 0.29312168 | I53: 1364621
B54: ASTURIAS, PRINCIPADO | C54: =+C8/$I54*100000 -> 1.4776462 | D54: =+D8/$I54*100000 -> 0.8865877 | E54: =+E8/$I54*100000 -> 0.49254872 | F54: =+F8/$I54*100000 -> 0.98509745 | G54: =+G8/$I54*100000 -> 0.59105847 | H54: =+H8/$I54*100000 -> 0.49254872 | I54: 1015128
B55: ILLES BALEARS | C55: =+C9/$I55*100000 -> 0.16001997 | D55: =+D9/$I55*100000 -> 0.16001997 | E55: =+E9/$I55*100000 -> 0.080009985 | F55: =+F9/$I55*100000 -> 0 | G55: =+G9/$I55*100000 -> 0 | H55: =+H9/$I55*100000 -> 0.080009985 | I55: 1249844
B56: CANARIAS | C56: =+C10/$I56*100000 -> 0.97394002 | D56: =+D10/$I56*100000 -> 0.84113002 | E56: =+E10/$I56*100000 -> 1.3281 | F56: =+F10/$I56*100000 -> 1.63799 | G56: =+G10/$I56*100000 -> 0.70832002 | H56: =+H10/$I56*100000 -> 0.92967002 | I56: 2258866
B57: CANTABRIA | C57: =+C11/$I57*100000 -> 2.021485 | D57: =+D11/$I57*100000 -> 0.33691417 | E57: =+E11/$I57*100000 -> 2.3583992 | F57: =+F11/$I57*100000 -> 0.67382834 | G57: =+G11/$I57*100000 -> 1.1791996 | H57: =+H11/$I57*100000 -> 1.0107425 | I57: 593623
B58: CASTILLA - LEÓN | C58: =+C12/$I58*100000 -> 0.62468219 | D58: =+D12/$I58*100000 -> 0.66632767 | E58: =+E12/$I58*100000 -> 0.37480932 | F58: =+F12/$I58*100000 -> 0.4164548 | G58: =+G12/$I58*100000 -> 0.83290959 | H58: =+H12/$I58*100000 -> 0.74961863 | I58: 2401221
B59: CASTILLA - LA MANCHA | C59: =+C13/$I59*100000 -> 0.47028327 | D59: =+D13/$I59*100000 -> 0.56433992 | E59: =+E13/$I59*100000 -> 0.14108498 | F59: =+F13/$I59*100000 -> 0.47028327 | G59: =+G13/$I59*100000 -> 0.42325494 | H59: =+H13/$I59*100000 -> 0.84650989 | I59: 2126378
B60: CATALUÑA | C60: =+C14/$I60*100000 -> 0.57852377 | D60: =+D14/$I60*100000 -> 0.46774262 | E60: =+E14/$I60*100000 -> 0.41850656 | F60: =+F14/$I60*100000 -> 0.51697869 | G60: =+G14/$I60*100000 -> 0.75085 | H60: =+H14/$I60*100000 -> 0.66468688 | I60: 8124126
B61: C. VALENCIANA | C61: =+C15/$I61*100000 -> 1.8432561 | D61: =+D15/$I61*100000 -> 1.9907166 | E61: =+E15/$I61*100000 -> 1.51147 | F61: =+F15/$I61*100000 -> 1.640498 | G61: =+G15/$I61*100000 -> 1.7510933 | H61: =+H15/$I61*100000 -> 1.1059537 | I61: 5425182
B62: EXTREMADURA | C62: =+C16/$I62*100000 -> 0.85442092 | D62: =+D16/$I62*100000 -> 0.75948526 | E62: =+E16/$I62*100000 -> 0.47467829 | F62: =+F16/$I62*100000 -> 0.94935657 | G62: =+G16/$I62*100000 -> 1.8037775 | H62: =+H16/$I62*100000 -> 1.5189705 | I62: 1053345
...

Sheet PEM TSJ  persona natural
C5: 25-T1 | D5: 25-T2 | E5: 25-T3 | F5: 25-T4 | G5: 26-T1 | H5: 26-T2
B6: ANDALUCÍA | C6: 102 | D6: 133 | E6: 73 | F6: 70 | G6: 107 | H6: 127
B7: ARAGÓN | C7: 3 | D7: 2 | E7: 0 | F7: 1 | G7: 4 | H7: 4
B8: ASTURIAS, PRINCIPADO | C8: 6 | D8: 4 | E8: 2 | F8: 3 | G8: 3 | H8: 7
B9: ILLES BALEARS | C9: 0 | D9: 1 | E9: 0 | F9: 0 | G9: 0 | H9: 2
B10: CANARIAS | C10: 8 | D10: 16 | E10: 6 | F10: 8 | G10: 17 | H10: 19
B11: CANTABRIA | C11: 0 | D11: 1 | E11: 1 | F11: 4 | G11: 9 | H11: 14
B12: CASTILLA Y LEÓN | C12: 19 | D12: 19 | E12: 5 | F12: 22 | G12: 12 | H12: 15
B13: CASTILLA - LA MANCHA | C13: 13 | D13: 13 | E13: 4 | F13: 15 | G13: 30 | H13: 20
B14: CATALUÑA | C14: 7 | D14: 8 | E14: 6 | F14: 1 | G14: 8 | H14: 14
B15: COMUNITAT VALENCIANA | C15: 42 | D15: 48 | E15: 57 | F15: 85 | G15: 51 | H15: 37
B16: EXTREMADURA | C16: 0 | D16: 3 | E16: 1 | F16: 3 | G16: 1 | H16: 2
B17: GALICIA | C17: 1 | D17: 3 | E17: 5 | F17: 4 | G17: 2 | H17: 5
... B23: TOTAL | C23: 333 | D23: 379 | E23: 254 | F23: 373 | G23: 414 | H23: 437
C27: Evolución 26-T1 | D27: Evolución 26-T2
B28: ANDALUCÍA | C28: =+IF(C6>0,(G6-C6)/C6,"-") -> 0.049019608 | D28: =+IF(D6>0,(H6-D6)/D6,"-") -> -0.045112782
B29: ARAGÓN | C29: =+IF(C7>0,(G7-C7)/C7,"-") -> 0.33333333 | D29: =+IF(D7>0,(H7-D7)/D7,"-") -> 1
B30: ASTURIAS, PRINCIPADO | C30: =+IF(C8>0,(G8-C8)/C8,"-") -> -0.5 | D30: =+IF(D8>0,(H8-D8)/D8,"-") -> 0.75
B31: ILLES BALEARS | C31: =+IF(C9>0,(G9-C9)/C9,"-") -> - | D31: =+IF(D9>0,(H9-D9)/D9,"-") -> 1
B32: CANARIAS | C32: =+IF(C10>0,(G10-C10)/C10,"-") -> 1.125 | D32: =+IF(D10>0,(H10-D10)/D10,"-") -> 0.1875
B33: CANTABRIA | C33: =+IF(C11>0,(G11-C11)/C11,"-") -> - | D33: =+IF(D11>0,(H11-D11)/D11,"-") -> 13
B34: CASTILLA Y LEÓN | C34: =+IF(C12>0,(G12-C12)/C12,"-") -> -0.36842105 | D34: =+IF(D12>0,(H12-D12)/D12,"-") -> -0.21052632
B35: CASTILLA - LA MANCHA | C35: =+IF(C13>0,(G13-C13)/C13,"-") -> 1.3076923 | D35: =+IF(D13>0,(H13-D13)/D13,"-") -> 0.53846154
B36: CATALUÑA | C36: =+IF(C14>0,(G14-C14)/C14,"-") -> 0.14285714 | D36: =+IF(D14>0,(H14-D14)/D14,"-") -> 0.75
B37: COMUNITAT VALENCIANA | C37: =+IF(C15>0,(G15-C15)/C15,"-") -> 0.21428571 | D37: =+IF(D15>0,(H15-D15)/D15,"-") -> -0.22916667
B38: EXTREMADURA | C38: =+IF(C16>0,(G16-C16)/C16,"-") -> - | D38: =+IF(D16>0,(H16-D16)/D16,"-") -> -0.33333333
B39: GALICIA | C39: =+IF(C17>0,(G17-C17)/C17,"-") -> 1 | D39: =+IF(D17>0,(H17-D17)/D17,"-") -> 0.66666667
... B45: TOTAL | C45: =+IF(C23>0,(G23-C23)/C23,"-") -> 0.24324324 | D45: =+IF(D23>0,(H23-D23)/D23,"-") -> 0.1530343
C51: 25-T1 | D51: 25-T2 | E51: 25-T3 | F51: 25-T4 | G51: 26-T1 | H51: 26-T2 | J51: 45658
B52: ANDALUCÍA | C52: =+C6/$J52*100000 -> 1.152888 | D52: =+D6/$J52*100000 -> 1.5032755 | E52: =+E6/$J52*100000 -> 0.8251061 | F52: =+F6/$J52*100000 -> 0.79119763 | G52: =+G6/$J52*100000 -> 1.2094021 | H52: =+H6/$J52*100000 -> 1.4354586 | J52: 8847347
B53: ARAGÓN | C53: =+C7/$J53*100000 -> 0.21984126 | D53: =+D7/$J53*100000 -> 0.14656084 | E53: =+E7/$J53*100000 -> 0 | F53: =+F7/$J53*100000 -> 0.07328042 | G53: =+G7/$J53*100000 -> 0.29312168 | H53: =+H7/$J53*100000 -> 0.29312168 | J53: 1364621
B54: ASTURIAS, PRINCIPADO | C54: =+C8/$J54*100000 -> 0.59105847 | D54: =+D8/$J54*100000 -> 0.39403898 | E54: =+E8/$J54*100000 -> 0.19701949 | F54: =+F8/$J54*100000 -> 0.29552923 | G54: =+G8/$J54*100000 -> 0.29552923 | H54: =+H8/$J54*100000 -> 0.68956821 | J54: 1015128
B55: ILLES BALEARS | C55: =+C9/$J55*100000 -> 0 | D55: =+D9/$J55*100000 -> 0.080009985 | E55: =+E9/$J55*100000 -> 0 | F55: =+F9/$J55*100000 -> 0 | G55: =+G9/$J55*100000 -> 0 | H55: =+H9/$J55*100000 -> 0.16001997 | J55: 1249844
B56: CANARIAS | C56: =+C10/$J56*100000 -> 0.35416001 | D56: =+D10/$J56*100000 -> 0.70832002 | E56: =+E10/$J56*100000 -> 0.26562001 | F56: =+F10/$J56*100000 -> 0.35416001 | G56: =+G10/$J56*100000 -> 0.75259002 | H56: =+H10/$J56*100000 -> 0.84113002 | J56: 2258866
B57: CANTABRIA | C57: =+C11/$J57*100000 -> 0 | D57: =+D11/$J57*100000 -> 0.16845708 | E57: =+E11/$J57*100000 -> 0.16845708 | F57: =+F11/$J57*100000 -> 0.67382834 | G57: =+G11/$J57*100000 -> 1.5161138 | H57: =+H11/$J57*100000 -> 2.3583992 | J57: 593623
B58: CASTILLA - LEÓN | C58: =+C12/$J58*100000 -> 0.79126411 | D58: =+D12/$J58*100000 -> 0.79126411 | E58: =+E12/$J58*100000 -> 0.2082274 | F58: =+F12/$J58*100000 -> 0.91620055 | G58: =+G12/$J58*100000 -> 0.49974575 | H58: =+H12/$J58*100000 -> 0.62468219 | J58: 2401221
B59: CASTILLA - LA MANCHA | C59: =+C13/$J59*100000 -> 0.61136825 | D59: =+D13/$J59*100000 -> 0.61136825 | E59: =+E13/$J59*100000 -> 0.18811331 | F59: =+F13/$J59*100000 -> 0.70542491 | G59: =+G13/$J59*100000 -> 1.4108498 | H59: =+H13/$J59*100000 -> 0.94056654 | J59: 2126378
B60: CATALUÑA | C60: =+C14/$J60*100000 -> 0.086163115 | D60: =+D14/$J60*100000 -> 0.098472131 | E60: =+E14/$J60*100000 -> 0.073854098 | F60: =+F14/$J60*100000 -> 0.012309016 | G60: =+G14/$J60*100000 -> 0.098472131 | H60: =+H14/$J60*100000 -> 0.17232623 | J60: 8124126
B61: C. VALENCIANA | C61: =+C15/$J61*100000 -> 0.77416758 | D61: =+D15/$J61*100000 -> 0.88476294 | E61: =+E15/$J61*100000 -> 1.050656 | F61: =+F15/$J61*100000 -> 1.5667677 | G61: =+G15/$J61*100000 -> 0.94006063 | H61: =+H15/$J61*100000 -> 0.68200477 | J61: 5425182
B62: EXTREMADURA | C62: =+C16/$J62*100000 -> 0 | D62: =+D16/$J62*100000 -> 0.28480697 | E62: =+E16/$J62*100000 -> 0.094935657 | F62: =+F16/$J62*100000 -> 0.28480697 | G62: =+G16/$J62*100000 -> 0.094935657 | H62: =+H16/$J62*100000 -> 0.18987131 | J62: 1053345
...

Sheet PEM presentados TSJ total
C5: 25-T1 | D5: 25-T2 | E5: 25-T3 | F5: 25-T4 | G5: 26-T1 | H5: 26-T2
B6: ANDALUCÍA | C6: 156 | D6: 171 | E6: 117 | F6: 137 | G6: 191 | H6: 183
B7: ARAGÓN | C7: 10 | D7: 12 | E7: 8 | F7: 8 | G7: 10 | H7: 8
B8: ASTURIAS, PRINCIPADO | C8: 21 | D8: 13 | E8: 7 | F8: 13 | G8: 9 | H8: 12
B9: ILLES BALEARS | C9: 2 | D9: 3 | E9: 1 | F9: 0 | G9: 0 | H9: 3
B10: CANARIAS | C10: 30 | D10: 35 | E10: 36 | F10: 45 | G10: 33 | H10: 40
B11: CANTABRIA | C11: 12 | D11: 3 | E11: 15 | F11: 8 | G11: 16 | H11: 20
B12: CASTILLA Y LEÓN | C12: 34 | D12: 35 | E12: 14 | F12: 32 | G12: 32 | H12: 33
B13: CASTILLA - LA MANCHA | C13: 23 | D13: 25 | E13: 7 | F13: 25 | G13: 39 | H13: 38
B14: CATALUÑA | C14: 54 | D14: 46 | E14: 40 | F14: 43 | G14: 69 | H14: 68
B15: COMUNITAT VALENCIANA | C15: 142 | D15: 156 | E15: 139 | F15: 174 | G15: 146 | H15: 97
B16: EXTREMADURA | C16: 9 | D16: 11 | E16: 6 | F16: 13 | G16: 20 | H16: 18
B17: GALICIA | C17: 8 | D17: 10 | E17: 8 | F17: 13 | G17: 5 | H17: 11
... B23: TOTAL | C23: 900 | D23: 871 | E23: 761 | F23: 861 | G23: 954 | H23: 937
C27: Evolución 26-T1 | D27: Evolución 26-T2
B28: ANDALUCÍA | C28: =+IF(C6>0,(G6-C6)/C6,"-") -> 0.22435897 | D28: =+IF(D6>0,(H6-D6)/D6,"-") -> 0.070175439
B29: ARAGÓN | C29: =+IF(C7>0,(G7-C7)/C7,"-") -> 0 | D29: =+IF(D7>0,(H7-D7)/D7,"-") -> -0.33333333
B30: ASTURIAS, PRINCIPADO | C30: =+IF(C8>0,(G8-C8)/C8,"-") -> -0.57142857 | D30: =+IF(D8>0,(H8-D8)/D8,"-") -> -0.076923077
B31: ILLES BALEARS | C31: =+IF(C9>0,(G9-C9)/C9,"-") -> -1 | D31: =+IF(D9>0,(H9-D9)/D9,"-") -> 0
B32: CANARIAS | C32: =+IF(C10>0,(G10-C10)/C10,"-") -> 0.1 | D32: =+IF(D10>0,(H10-D10)/D10,"-") -> 0.14285714
B33: CANTABRIA | C33: =+IF(C11>0,(G11-C11)/C11,"-") -> 0.33333333 | D33: =+IF(D11>0,(H11-D11)/D11,"-") -> 5.6666667
B34: CASTILLA Y LEÓN | C34: =+IF(C12>0,(G12-C12)/C12,"-") -> -0.058823529 | D34: =+IF(D12>0,(H12-D12)/D12,"-") -> -0.057142857
B35: CASTILLA - LA MANCHA | C35: =+IF(C13>0,(G13-C13)/C13,"-") -> 0.69565217 | D35: =+IF(D13>0,(H13-D13)/D13,"-") -> 0.52
B36: CATALUÑA | C36: =+IF(C14>0,(G14-C14)/C14,"-") -> 0.27777778 | D36: =+IF(D14>0,(H14-D14)/D14,"-") -> 0.47826087
B37: COMUNITAT VALENCIANA | C37: =+IF(C15>0,(G15-C15)/C15,"-") -> 0.028169014 | D37: =+IF(D15>0,(H15-D15)/D15,"-") -> -0.37820513
B38: EXTREMADURA | C38: =+IF(C16>0,(G16-C16)/C16,"-") -> 1.2222222 | D38: =+IF(D16>0,(H16-D16)/D16,"-") -> 0.63636364
B39: GALICIA | C39: =+IF(C17>0,(G17-C17)/C17,"-") -> -0.375 | D39: =+IF(D17>0,(H17-D17)/D17,"-") -> 0.1
... B45: TOTAL | C45: =+IF(C23>0,(G23-C23)/C23,"-") -> 0.06 | D45: =+IF(D23>0,(H23-D23)/D23,"-") -> 0.075774971
C51: 25-T1 | D51: 25-T2 | E51: 25-T3 | F51: 25-T4 | G51: 26-T1 | H51: 26-T2 | J51: 45658
B52: ANDALUCÍA | C52: =+C6/$J52*100000 -> 1.7632404 | D52: =+D6/$J52*100000 -> 1.9327828 | E52: =+E6/$J52*100000 -> 1.3224303 | F52: =+F6/$J52*100000 -> 1.5484868 | G52: =+G6/$J52*100000 -> 2.1588393 | H52: =+H6/$J52*100000 -> 2.0684167 | J52: 8847347
B53: ARAGÓN | C53: =+C7/$J53*100000 -> 0.7328042 | D53: =+D7/$J53*100000 -> 0.87936504 | E53: =+E7/$J53*100000 -> 0.58624336 | F53: =+F7/$J53*100000 -> 0.58624336 | G53: =+G7/$J53*100000 -> 0.7328042 | H53: =+H7/$J53*100000 -> 0.58624336 | J53: 1364621
B54: ASTURIAS, PRINCIPADO | C54: =+C8/$J54*100000 -> 2.0687046 | D54: =+D8/$J54*100000 -> 1.2806267 | E54: =+E8/$J54*100000 -> 0.68956821 | F54: =+F8/$J54*100000 -> 1.2806267 | G54: =+G8/$J54*100000 -> 0.8865877 | H54: =+H8/$J54*100000 -> 1.1821169 | J54: 1015128
B55: ILLES BALEARS | C55: =+C9/$J55*100000 -> 0.16001997 | D55: =+D9/$J55*100000 -> 0.24002996 | E55: =+E9/$J55*100000 -> 0.080009985 | F55: =+F9/$J55*100000 -> 0 | G55: =+G9/$J55*100000 -> 0 | H55: =+H9/$J55*100000 -> 0.24002996 | J55: 1249844
